BEGIN:VCALENDAR
VERSION:2.0
PRODID:-//Area 91 - ECPv6.15.20//NONSGML v1.0//EN
CALSCALE:GREGORIAN
METHOD:PUBLISH
X-ORIGINAL-URL:https://aasask.org
X-WR-CALDESC:Events for Area 91
REFRESH-INTERVAL;VALUE=DURATION:PT1H
X-Robots-Tag:noindex
X-PUBLISHED-TTL:PT1H
BEGIN:VTIMEZONE
TZID:America/Regina
BEGIN:STANDARD
TZOFFSETFROM:-0600
TZOFFSETTO:-0600
TZNAME:CST
DTSTART:20250101T000000
END:STANDARD
END:VTIMEZONE
BEGIN:VEVENT
DTSTART;VALUE=DATE:20260606
DTEND;VALUE=DATE:20260607
DTSTAMP:20260425T215748
CREATED:20251008T130755Z
LAST-MODIFIED:20260424T160242Z
UID:38223-1780704000-1780790399@aasask.org
SUMMARY:Swift Current 62nd Round-Up "Fellowship in Recovery"
DESCRIPTION:Swift Current 62nd Annual AA Round-Up with Al-Anon Participation\nJune 6\, 2026\nFirst United Church Hall – Upper level\n223 3rd Avenue NE.\, Swift Current\, Saskatchewan \n  \nSC-Round-Up-Poster-2026
URL:https://aasask.org/event/fellowship-in-recovery/
LOCATION:First United Church Hall\, 223 3rd Avenue NE\, Swift Current\, Saskatchewan\, Canada
ATTACH;FMTTYPE=application/pdf:https://aasask.org/wp-content/uploads/2025/10/SC-Round-Up-Poster-2026-1.pdf
END:VEVENT
BEGIN:VEVENT
DTSTART;VALUE=DATE:20260612
DTEND;VALUE=DATE:20260615
DTSTAMP:20260425T215748
CREATED:20260114T155250Z
LAST-MODIFIED:20260316T004128Z
UID:38526-1781222400-1781481599@aasask.org
SUMMARY:2026 Western Canada Forum
DESCRIPTION:For reservations call 306-224-8881 \n2026 WCRF Poster \n2026-Western-Canada-RF-Poster
URL:https://aasask.org/event/2026-western-canada-forum/
LOCATION:Travelodge Hotel Saskatoon\, 106 Circle Drive West\, Saskatoon\, Saskatchewan\, S7L4L6
ATTACH;FMTTYPE=application/pdf:https://aasask.org/wp-content/uploads/2026/01/2026-WCRF-Poster.pdf
END:VEVENT
BEGIN:VEVENT
DTSTART;VALUE=DATE:20260619
DTEND;VALUE=DATE:20260622
DTSTAMP:20260425T215748
CREATED:20260420T202644Z
LAST-MODIFIED:20260420T202724Z
UID:38713-1781827200-1782086399@aasask.org
SUMMARY:Coronach Pioneer Group 47th Annual Camp Out @ Wood Mountain Regional Park
DESCRIPTION:
URL:https://aasask.org/event/coronach-47th-annual-camp-out-wood-mountain-regional-park/
LOCATION:Camp Woodboia\, Wood Mountain Rgional Park\, Saskatchewan\, Canada
ATTACH;FMTTYPE=application/pdf:https://aasask.org/wp-content/uploads/2026/04/Coronach-Round-Up-2026.pdf
END:VEVENT
END:VCALENDAR